BEGIN:VCALENDAR
VERSION:2.0
PRODID:-//MoundView Golf Course - ECPv6.15.20//NONSGML v1.0//EN
CALSCALE:GREGORIAN
METHOD:PUBLISH
X-WR-CALNAME:MoundView Golf Course
X-ORIGINAL-URL:https://moundviewgolf.com
X-WR-CALDESC:Events for MoundView Golf Course
REFRESH-INTERVAL;VALUE=DURATION:PT1H
X-Robots-Tag:noindex
X-PUBLISHED-TTL:PT1H
BEGIN:VTIMEZONE
TZID:America/Toronto
BEGIN:DAYLIGHT
TZOFFSETFROM:-0500
TZOFFSETTO:-0400
TZNAME:EDT
DTSTART:20210314T070000
END:DAYLIGHT
BEGIN:STANDARD
TZOFFSETFROM:-0400
TZOFFSETTO:-0500
TZNAME:EST
DTSTART:20211107T060000
END:STANDARD
BEGIN:DAYLIGHT
TZOFFSETFROM:-0500
TZOFFSETTO:-0400
TZNAME:EDT
DTSTART:20220313T070000
END:DAYLIGHT
BEGIN:STANDARD
TZOFFSETFROM:-0400
TZOFFSETTO:-0500
TZNAME:EST
DTSTART:20221106T060000
END:STANDARD
BEGIN:DAYLIGHT
TZOFFSETFROM:-0500
TZOFFSETTO:-0400
TZNAME:EDT
DTSTART:20230312T070000
END:DAYLIGHT
BEGIN:STANDARD
TZOFFSETFROM:-0400
TZOFFSETTO:-0500
TZNAME:EST
DTSTART:20231105T060000
END:STANDARD
END:VTIMEZONE
BEGIN:VEVENT
DTSTART;VALUE=DATE:20220608
DTEND;VALUE=DATE:20220609
DTSTAMP:20260421T075057
CREATED:20220531T124024Z
LAST-MODIFIED:20220531T124024Z
UID:6518-1654646400-1654732799@moundviewgolf.com
SUMMARY:National Best Friend Day
DESCRIPTION:National Best Friend Day\nJune 8\, 2022\nWhen you play golf in Friendship Wisconsin\, you have to celebrate National Best Friend Day! \nCome to the course to take a pic with your bestie or golf partner and post it to our Facebook page using the hashtag #friendsinfriendship
URL:https://moundviewgolf.com/event/national-best-friend-day/
ATTACH;FMTTYPE=image/png:https://moundviewgolf.com/wp-content/uploads/2022/05/Moundview-National-Best-Friend-Day-Facebook-Event-Cover.png
END:VEVENT
END:VCALENDAR